BEGIN:VCALENDAR
VERSION:2.0
PRODID:Marvelli Open for Inspection - Clean Lines
BEGIN:VTIMEZONE
TZID:Australia/Melbourne
BEGIN:STANDARD
DTSTART:20210304T173000
TZOFFSETTO:+1100
TZNAME:GMT+11
END:STANDARD
END:VTIMEZONE
BEGIN:VEVENT
UID:603c776fcf542
DTSTART;TZID=Australia/Melbourne:20210304T173000
SEQUENCE:0
TRANSP:OPAQUE
DTEND;TZID=Australia/Melbourne:20210304T181500
LOCATION:36  O'Keefe Street PRESTON VIC
SUMMARY:Marvelli Open for Inspection - 36  O'Keefe Street PRESTON VIC
CLASS:PUBLIC
DESCRIPTION:Open for Inspection: 36  O'Keefe Street PRESTON VIC Thursday
 4th Mar 17:30pm - 18:15pm Click the link for full listing information:
 https://www.marvelli.com.au/sale/vic/north/preston/residential/house/6318821
DTSTAMP:20210301T051111
END:VEVENT
END:VCALENDAR